BEGIN:VCALENDAR
VERSION:2.0
PRODID:-//Celebrating George Michael - ECPv6.15.20//NONSGML v1.0//EN
CALSCALE:GREGORIAN
METHOD:PUBLISH
X-WR-CALNAME:Celebrating George Michael
X-ORIGINAL-URL:https://choosegeorge.show
X-WR-CALDESC:Events for Celebrating George Michael
REFRESH-INTERVAL;VALUE=DURATION:PT1H
X-Robots-Tag:noindex
X-PUBLISHED-TTL:PT1H
BEGIN:VTIMEZONE
TZID:UTC
BEGIN:STANDARD
TZOFFSETFROM:+0000
TZOFFSETTO:+0000
TZNAME:UTC
DTSTART:20250101T000000
END:STANDARD
END:VTIMEZONE
BEGIN:VEVENT
DTSTART;TZID=UTC:20260106T190000
DTEND;TZID=UTC:20260106T230000
DTSTAMP:20260423T171605
CREATED:20251120T171718Z
LAST-MODIFIED:20251120T171718Z
UID:3137-1767726000-1767740400@choosegeorge.show
SUMMARY:Rehearsals for 2026 Show
DESCRIPTION:Rehearsals 7pm – 11pm \nDrums\, Bass\, Guitar\, Keys\, Lead Vox Only.  \nLower Gate Farm\,\, Langley Lodge Lane\,\, Kings Langley\, WD4 8QN \nhttps://www.rhonasrooms.co.uk/ 
URL:https://choosegeorge.show/bandcal/rehearsals-for-2026-show/
LOCATION:Rhona’s Rooms – Rehearsals\, Lower Gate Farm\,\, Langley Lodge Lane\,\,\, Kings Langley\, WD4 8QN
CATEGORIES:Rehearsal
END:VEVENT
BEGIN:VEVENT
DTSTART;TZID=UTC:20260107T190000
DTEND;TZID=UTC:20260107T230000
DTSTAMP:20260423T171605
CREATED:20251120T171905Z
LAST-MODIFIED:20251120T171905Z
UID:3141-1767812400-1767826800@choosegeorge.show
SUMMARY:Rehearsals for 2026 Show
DESCRIPTION:Rehearsals 7pm – 11pm \nDrums\, Bass\, Guitar\, Keys\, Lead Vox Only. \nLower Gate Farm\,\, Langley Lodge Lane\,\, Kings Langley\, WD4 8QN \nhttps://www.rhonasrooms.co.uk/ 
URL:https://choosegeorge.show/bandcal/rehearsals-for-2026-show-2/
LOCATION:Rhona’s Rooms – Rehearsals\, Lower Gate Farm\,\, Langley Lodge Lane\,\,\, Kings Langley\, WD4 8QN
CATEGORIES:Rehearsal
END:VEVENT
END:VCALENDAR