BEGIN:VCALENDAR
VERSION:2.0
PRODID:-//Celebrating George Michael - ECPv6.15.20//NONSGML v1.0//EN
CALSCALE:GREGORIAN
METHOD:PUBLISH
X-ORIGINAL-URL:https://choosegeorge.show
X-WR-CALDESC:Events for Celebrating George Michael
REFRESH-INTERVAL;VALUE=DURATION:PT1H
X-Robots-Tag:noindex
X-PUBLISHED-TTL:PT1H
BEGIN:VTIMEZONE
TZID:UTC
BEGIN:STANDARD
TZOFFSETFROM:+0000
TZOFFSETTO:+0000
TZNAME:UTC
DTSTART:20240101T000000
END:STANDARD
END:VTIMEZONE
BEGIN:VEVENT
DTSTART;VALUE=DATE:20250913
DTEND;VALUE=DATE:20250914
DTSTAMP:20260423T152944
CREATED:20241218T185023Z
LAST-MODIFIED:20250913T105531Z
UID:2591-1757721600-1757807999@choosegeorge.show
SUMMARY:CGM - STAGG THEATRE SEVENOAKS
DESCRIPTION:CGM – The Stag Theatre – Sevenoaks – Sat  13th September 2025 \n1pm – Quorn load in \n2.30pm – All Band members arrive \n4pm – Soundcheck \n7.30pm – Show Start time \nBV’s Hotel – Premier Inn – Thurrock West\, Stonehouse Lane\, RM19 1NS\nRoom is under “Audrey Small”\nBooking Reference AQW6256943
URL:https://choosegeorge.show/bandcal/cgm-stagg-theatre-sevenoaks/
LOCATION:Stagg Theatre\, London Rd\, Sevenoaks\, Kent\, TN13 1ZZ
CATEGORIES:Show
END:VEVENT
BEGIN:VEVENT
DTSTART;VALUE=DATE:20250918
DTEND;VALUE=DATE:20250919
DTSTAMP:20260423T152944
CREATED:20241003T063010Z
LAST-MODIFIED:20250915T181225Z
UID:2522-1758153600-1758239999@choosegeorge.show
SUMMARY:CGM - BARNARD CASTLE & BLYTH
DESCRIPTION:THE WITHAM – BARNARD CASTLE – SEPTEMBER 18TH 2025 \n6.30 AM – STEVE to Dave’s – Collect Truck \n9.00 AM – DEANO\, RAY\, GUY\, meet at Dave’s and load truck. \n9.30 AM – LEAVE \n👇****GIRLS****👇\n10.45 AM – TRUCK ARRIVE TO PICK UP NAOMI AND AUDREY – Same location as last time  – The Waterside Pub & Carvery  https://www.greeneking.co.uk/pubs/warwickshire/waterside – Crick Road\, Rugby\, Warwickshire\, CV21 4PW \n2.00 PM – Quorn load in and set up \n2.00 PM – Band arrive \n4.00 PM – SOUNDCHECK  \n7.30 PM – SHOW TIME  \nHotel both nights – TS22 5PZ Wolviston/Wynyard Hotel | Book Cheap Hotels In Stockton-on-Tees | Premier Inn –  \nFriday – Blyth \nSat 9AM – Depart from hotel – Depending on traffic\, we should be back to Dave’s about 1.30 – 2pm
URL:https://choosegeorge.show/bandcal/cgm-the-witham-barnard-castle/
LOCATION:The Witham – Barnard Castle\, 3 Horse Market\, Barnard Castle\, Barnard Castle\, DL12 8LY\, United Kingdom
CATEGORIES:Show
END:VEVENT
BEGIN:VEVENT
DTSTART;VALUE=DATE:20250919
DTEND;VALUE=DATE:20250920
DTSTAMP:20260423T152944
CREATED:20241003T062325Z
LAST-MODIFIED:20250912T104008Z
UID:2517-1758240000-1758326399@choosegeorge.show
SUMMARY:CGM - PHOENIX BLYTH
DESCRIPTION:THE PHOENIX THEATRE BLYTH – FRI 19TH SEPTEMBER 2025 \n1pm – Quorn Arrive \n2.30pm – Band Arrive \n4pm – Soundcheck \n7.30pm – Showtime \nwe are all staying at the premier inn listed below…approx 50 min drive from the venue. \nWolviston/Wynyard Hotel | Book Cheap Hotels In Stockton-on-Tees | Premier Inn
URL:https://choosegeorge.show/bandcal/cgm-phoenix-blyth/
LOCATION:Pheonis Theatre\, Blyth\, 37A Beaconsfield St\, Blyth\, NE24 2DS
CATEGORIES:Show
END:VEVENT
END:VCALENDAR