BEGIN:VCALENDAR
VERSION:2.0
PRODID:-//Celebrating George Michael - ECPv6.15.20//NONSGML v1.0//EN
CALSCALE:GREGORIAN
METHOD:PUBLISH
X-ORIGINAL-URL:https://choosegeorge.show
X-WR-CALDESC:Events for Celebrating George Michael
REFRESH-INTERVAL;VALUE=DURATION:PT1H
X-Robots-Tag:noindex
X-PUBLISHED-TTL:PT1H
BEGIN:VTIMEZONE
TZID:UTC
BEGIN:STANDARD
TZOFFSETFROM:+0000
TZOFFSETTO:+0000
TZNAME:UTC
DTSTART:20240101T000000
END:STANDARD
END:VTIMEZONE
BEGIN:VEVENT
DTSTART;TZID=UTC:20251101T193000
DTEND;TZID=UTC:20251101T220000
DTSTAMP:20260423T152910
CREATED:20250111T002335Z
LAST-MODIFIED:20251028T102314Z
UID:2610-1762025400-1762034400@choosegeorge.show
SUMMARY:CGM - MICK JAGGER CENTRE - DARTFORD
DESCRIPTION:SAT 1st Nov 2025 \nThe Mick Jagger Centre\, Shepherds Ln\, Dartford DA1 2JZ\n \nPlease note that James is on this show\, standing in for Deano\, who is still rather unwell.  So please be on time\, as we will no doubt run through a few bits to help James.  But at least he has had more than 2 hours notice this week. 😉  \n1pm – Quorn load in \n2.30pm – All band load in \n4pm – Soundcheck \n7.30pm – Show Time \nPlease make sure you have your CGM ARTIST PASSES on you. \nCheers all. See you Saturday \ncheers\nSteve \n 
URL:https://choosegeorge.show/bandcal/cgm-mick-jagger-centre-dartford/
LOCATION:The Mick Jagger Centre\, Shepherds Ln\, Dartford\, DA1 2JZ
CATEGORIES:Show
END:VEVENT
END:VCALENDAR