BEGIN:VCALENDAR
VERSION:2.0
PRODID:-//Celebrating George Michael - ECPv6.15.20//NONSGML v1.0//EN
CALSCALE:GREGORIAN
METHOD:PUBLISH
X-ORIGINAL-URL:https://choosegeorge.show
X-WR-CALDESC:Events for Celebrating George Michael
REFRESH-INTERVAL;VALUE=DURATION:PT1H
X-Robots-Tag:noindex
X-PUBLISHED-TTL:PT1H
BEGIN:VTIMEZONE
TZID:UTC
BEGIN:STANDARD
TZOFFSETFROM:+0000
TZOFFSETTO:+0000
TZNAME:UTC
DTSTART:20240101T000000
END:STANDARD
END:VTIMEZONE
BEGIN:VEVENT
DTSTART;TZID=UTC:20251211T193000
DTEND;TZID=UTC:20251211T223000
DTSTAMP:20260421T112046
CREATED:20250109T185558Z
LAST-MODIFIED:20251208T113338Z
UID:2604-1765481400-1765492200@choosegeorge.show
SUMMARY:CGM - BERKHAMSTED CIVIC CENTRE Christmas show
DESCRIPTION:THURS 11th December 2025 – CGM – BERKHAMSTED CIVIC CENTRE  \n12noon – 1pm – Quorn load in \n2.30pm – All Band load in \n4pm – Soundcheck \n5pm – Staff Christmas Party ( quick visit to the pub) – ( Old mouts and Prosecco) \n8pm – Show time \nKEY CODE for Back entrance is 8519 – You need to go round the back of the venue. This is off Clarence Road. \n  \nBring Christmas hats if you happen to own one \nDONT FORGET- We have Feed the world (Band Aid and Last Christmas track at the end of the show – Wham Rap – Good Times is out for this show) Here’s the link for practice track just in case 👇 \nhttps://drive.google.com/drive/folders/1y8bMPpK_H_z9OE-TyiyaGkCxAIb0_-Yu \nCheers Everyone…looking forward to seeing you all and having a good Christmas show xx \n 
URL:https://choosegeorge.show/bandcal/cgm-berkhamsted-civic-centre-christmas-show/
LOCATION:Berkhampstead Civic Centre\, 161 High Street Berkhamsted Hertfordshire HP4 3HB\, Berkhampsted\, HP4 3HB
CATEGORIES:Show
END:VEVENT
END:VCALENDAR