BEGIN:VCALENDAR
VERSION:2.0
PRODID:-//Celebrating George Michael - ECPv6.15.20//NONSGML v1.0//EN
CALSCALE:GREGORIAN
METHOD:PUBLISH
X-ORIGINAL-URL:https://choosegeorge.show
X-WR-CALDESC:Events for Celebrating George Michael
REFRESH-INTERVAL;VALUE=DURATION:PT1H
X-Robots-Tag:noindex
X-PUBLISHED-TTL:PT1H
BEGIN:VTIMEZONE
TZID:UTC
BEGIN:STANDARD
TZOFFSETFROM:+0000
TZOFFSETTO:+0000
TZNAME:UTC
DTSTART:20250101T000000
END:STANDARD
END:VTIMEZONE
BEGIN:VEVENT
DTSTART;VALUE=DATE:20260116
DTEND;VALUE=DATE:20260117
DTSTAMP:20260423T104059
CREATED:20251007T051222Z
LAST-MODIFIED:20260128T200356Z
UID:3112-1768521600-1768607999@choosegeorge.show
SUMMARY:The Beam - Hertford
DESCRIPTION:CGM – THE BEAM THEATRE – HERTFORD \nFRIDAYS SHOW IS SOLD OUT. \n12noon – 1pm – Quorn load in \n2.30pm – Band Load in \n4.00pm – Soundcheck ( please note there are new arrangements now as per drop box link in our chat) these will be checked over in Soundcheck. \n7.30pm – Show time \n** please bring your CGM passes. \n** Parking at the Beam Theatre – IMPORTANT \nBEAM Theatre in Hertford\nhas no on-site parking\, so you’ll need to use nearby public car parks like St Andrew Street Car Park(closest with disabled bays)\, Gascoyne Way Car Park (large\, 12 mins walk)\, or Old London Road Car Park (85 spaces\, 6 mins walk). St Andrew Street Car Park is 24/7\, charges Mon-Sat (free for 30 mins)\, has blue badge bays\, and is about a 17-minute walk from the venue. Hertford East Station also has parking\, but it’s further away.  \nLOOKING FORWARD TO SEEING YOU ALL. \nANY QUESTIONS PLEASE ASK IN THE BAND CHAT PAGE ON WHATTSAPP \n 
URL:https://choosegeorge.show/bandcal/the-beam-hertford/
LOCATION:The Beam – Hertford\, The Wash\, Hertford SG14 1PS\, Hertford\, SG14 1PS
CATEGORIES:Show
END:VEVENT
BEGIN:VEVENT
DTSTART;VALUE=DATE:20260122
DTEND;VALUE=DATE:20260123
DTSTAMP:20260423T104059
CREATED:20250527T154554Z
LAST-MODIFIED:20260128T200346Z
UID:2870-1769040000-1769126399@choosegeorge.show
SUMMARY:CGM - The cube Corby
DESCRIPTION:12 noon – 1pm – Quorn Events load in \n2.30pm – All Band Load in \n4.00pm – Soundcheck \n7.30pm – Show Start \n** Please bring your CGM passes with you. \n** PARKING: \n\n\n\n\n\n\n\n\n\n\n\n\nParking for the Corby Cube (The Core) is available in the Parkland Gateway Car Park directly behind it\, offering evening rates (20p 6pm-midnight) and daily charges\, with Sundays free\, plus other nearby options like Willow Place\, Oasis\, and private spaces via apps like JustPark/YourParkingSpace for booking ahead. \n\n\n\n\n\n\n\n\n\n\n\n\n  \nAny questions please ask in the Band Chat \nSee you all on Thursday
URL:https://choosegeorge.show/bandcal/cgm-the-cube-corby/
LOCATION:The Core at Corby Cube\, Parkland Gateway\, The Corby Cube\, George St\, Corby NN17 1QG\, NN17 1QG
CATEGORIES:Show
END:VEVENT
BEGIN:VEVENT
DTSTART;VALUE=DATE:20260123
DTEND;VALUE=DATE:20260124
DTSTAMP:20260423T104059
CREATED:20250527T155002Z
LAST-MODIFIED:20260128T200338Z
UID:2873-1769126400-1769212799@choosegeorge.show
SUMMARY:CGM - CENTRAL THEATRE - CHATHAM
DESCRIPTION:12 noon – 1pm : Quorn events load in \n2.30pm : All Band Load in \n4.00pm : Soundcheck \n7.30pm : Show start \n** Please allow extra time for travel – FRIDAY TRAFFIC \n** Please Bring your CGM Passes with you \n** Naomi and Lynsey – staying over ( Naomi you have all the details sent to your email) \n** PARKING : \n\nThe\nCentral Theatre\nin Chatham does not have its own general public car park\, but there are several Pay & Display options within a 5-minute walk.  \n\n\nNearest Public Parking\nThese car parks are managed by Medway Council or private operators and are the most convenient for theatre attendees:\n\n\n\n\n\n\n\n\n\n\nThe Paddock\nGarden\nOpenPost Office\, 37 The Pentagon\n\n\n\n\n\n\nLocated less than 100 yards from the theatre. \n\nCapacity: 53 spaces.\nCost: £2.40 for 1 hour; £3.90 for 2–4 hours; £6.60 for up to 18 hours.\nHours: Chargeable Monday–Sunday\, 7:00 AM – 1:00 AM.\n\n\n\n\n\n 
URL:https://choosegeorge.show/bandcal/cgm-central-theatre-chatham/
LOCATION:Central Theatre – Chatham – Kent\, Central Theatre\, 170 High St\, Chatham ME4 4AS\, ME4 4AS
CATEGORIES:Show
END:VEVENT
END:VCALENDAR