BEGIN:VCALENDAR
VERSION:2.0
PRODID:-//Celebrating George Michael - ECPv6.15.20//NONSGML v1.0//EN
CALSCALE:GREGORIAN
METHOD:PUBLISH
X-WR-CALNAME:Celebrating George Michael
X-ORIGINAL-URL:https://choosegeorge.show
X-WR-CALDESC:Events for Celebrating George Michael
REFRESH-INTERVAL;VALUE=DURATION:PT1H
X-Robots-Tag:noindex
X-PUBLISHED-TTL:PT1H
BEGIN:VTIMEZONE
TZID:UTC
BEGIN:STANDARD
TZOFFSETFROM:+0000
TZOFFSETTO:+0000
TZNAME:UTC
DTSTART:20240101T000000
END:STANDARD
END:VTIMEZONE
BEGIN:VEVENT
DTSTART;TZID=UTC:20250628T193000
DTEND;TZID=UTC:20250628T220000
DTSTAMP:20260424T014004
CREATED:20240508T135551Z
LAST-MODIFIED:20250623T120734Z
UID:2335-1751139000-1751148000@choosegeorge.show
SUMMARY:THE TIVOLI THEATRE - WIMBORNE
DESCRIPTION:CGM – TIVOLI THEATRE – WIMBORNE- DORSET \nhttps://www.tivoliwimborne.co.uk/ \n12-1PM – QUORN LOAD IN \n2.30PM – BAND LOAD IN \n3PM – GIRLS LOAD IN \n4PM – SOUNDCHECK \n7.30PM – STAGE TIME \n(EVERYONE DRIVING) \nSTAYING – HOTELS – GUY\, QUORN BOYS\, AUDREY\,LYNSEY \nHOTEL: NEWBURY TOTHILL TRAVELODGE \, Tot Hill Services\, A34\, Burghclere\, Newbury RG20 9BX . BOOKINGS UNDER MARTIN HALL\, AUDREY SMALL\, GUY PHETHEAN  \nWHAT 3 WORDS FOR HOTEL DIRECTIONS \nhttps://what3words.com/ \n///scatter.gangs.typically \nPLEASE ALLOW EXTRA TIME AS COASTAL ROUTES COULD BE BUSY IF WEATHER IS GOOD. \nPLEASE BRING YOUR CGM PASSES.
URL:https://choosegeorge.show/bandcal/the-tivoli-theatre-wimborne/
LOCATION:The Tivoli Theatre – Wimborne\, West Borough\, Wimborne Minster BH21 1LT\, Wimborne\, Dorset\, BH21 1LT\, United Kingdom
CATEGORIES:Show
END:VEVENT
END:VCALENDAR