BEGIN:VCALENDAR
VERSION:2.0
PRODID:-//Celebrating George Michael - ECPv6.15.20//NONSGML v1.0//EN
CALSCALE:GREGORIAN
METHOD:PUBLISH
X-WR-CALNAME:Celebrating George Michael
X-ORIGINAL-URL:https://choosegeorge.show
X-WR-CALDESC:Events for Celebrating George Michael
REFRESH-INTERVAL;VALUE=DURATION:PT1H
X-Robots-Tag:noindex
X-PUBLISHED-TTL:PT1H
BEGIN:VTIMEZONE
TZID:UTC
BEGIN:STANDARD
TZOFFSETFROM:+0000
TZOFFSETTO:+0000
TZNAME:UTC
DTSTART:20240101T000000
END:STANDARD
END:VTIMEZONE
BEGIN:VEVENT
DTSTART;VALUE=DATE:20250703
DTEND;VALUE=DATE:20250704
DTSTAMP:20260423T203728
CREATED:20250403T070634Z
LAST-MODIFIED:20250701T083108Z
UID:2765-1751500800-1751587199@choosegeorge.show
SUMMARY:CGM BOISDALE
DESCRIPTION:CGM BOISDALE – 3rd July 2025 \nhttps://www.boisdale.co.uk/ \nOn the show : Dave\, Jason\, Guy\, Steve\, Ray\, Lynsey\, Audrey \n3pm – everyone load in  \n           4pm – soundcheck \n           6pm – Dinner served \n            9pm – Show time / set will be straight through for quick get out  \n  \n 
URL:https://choosegeorge.show/bandcal/cgm-boisdale/
LOCATION:Boisdale\, Cabot Place\, Canary Wharf\, London\, E14 4QT\, Cabot Place\, Canary Wharf\,\, London\, E14 4QT
CATEGORIES:Show
END:VEVENT
END:VCALENDAR