BEGIN:VCALENDAR
VERSION:2.0
PRODID:-//Celebrating George Michael - ECPv6.15.20//NONSGML v1.0//EN
CALSCALE:GREGORIAN
METHOD:PUBLISH
X-WR-CALNAME:Celebrating George Michael
X-ORIGINAL-URL:https://choosegeorge.show
X-WR-CALDESC:Events for Celebrating George Michael
REFRESH-INTERVAL;VALUE=DURATION:PT1H
X-Robots-Tag:noindex
X-PUBLISHED-TTL:PT1H
BEGIN:VTIMEZONE
TZID:UTC
BEGIN:STANDARD
TZOFFSETFROM:+0000
TZOFFSETTO:+0000
TZNAME:UTC
DTSTART:20240101T000000
END:STANDARD
END:VTIMEZONE
BEGIN:VEVENT
DTSTART;VALUE=DATE:20250913
DTEND;VALUE=DATE:20250914
DTSTAMP:20260423T185823
CREATED:20241218T185023Z
LAST-MODIFIED:20250913T105531Z
UID:2591-1757721600-1757807999@choosegeorge.show
SUMMARY:CGM - STAGG THEATRE SEVENOAKS
DESCRIPTION:CGM – The Stag Theatre – Sevenoaks – Sat  13th September 2025 \n1pm – Quorn load in \n2.30pm – All Band members arrive \n4pm – Soundcheck \n7.30pm – Show Start time \nBV’s Hotel – Premier Inn – Thurrock West\, Stonehouse Lane\, RM19 1NS\nRoom is under “Audrey Small”\nBooking Reference AQW6256943
URL:https://choosegeorge.show/bandcal/cgm-stagg-theatre-sevenoaks/
LOCATION:Stagg Theatre\, London Rd\, Sevenoaks\, Kent\, TN13 1ZZ
CATEGORIES:Show
END:VEVENT
END:VCALENDAR