BEGIN:VCALENDAR
VERSION:2.0
PRODID:-//Celebrating George Michael - ECPv6.15.20//NONSGML v1.0//EN
CALSCALE:GREGORIAN
METHOD:PUBLISH
X-WR-CALNAME:Celebrating George Michael
X-ORIGINAL-URL:https://choosegeorge.show
X-WR-CALDESC:Events for Celebrating George Michael
REFRESH-INTERVAL;VALUE=DURATION:PT1H
X-Robots-Tag:noindex
X-PUBLISHED-TTL:PT1H
BEGIN:VTIMEZONE
TZID:UTC
BEGIN:STANDARD
TZOFFSETFROM:+0000
TZOFFSETTO:+0000
TZNAME:UTC
DTSTART:20250101T000000
END:STANDARD
END:VTIMEZONE
BEGIN:VEVENT
DTSTART;VALUE=DATE:20260116
DTEND;VALUE=DATE:20260117
DTSTAMP:20260423T152950
CREATED:20251007T051222Z
LAST-MODIFIED:20260128T200356Z
UID:3112-1768521600-1768607999@choosegeorge.show
SUMMARY:The Beam - Hertford
DESCRIPTION:CGM – THE BEAM THEATRE – HERTFORD \nFRIDAYS SHOW IS SOLD OUT. \n12noon – 1pm – Quorn load in \n2.30pm – Band Load in \n4.00pm – Soundcheck ( please note there are new arrangements now as per drop box link in our chat) these will be checked over in Soundcheck. \n7.30pm – Show time \n** please bring your CGM passes. \n** Parking at the Beam Theatre – IMPORTANT \nBEAM Theatre in Hertford\nhas no on-site parking\, so you’ll need to use nearby public car parks like St Andrew Street Car Park(closest with disabled bays)\, Gascoyne Way Car Park (large\, 12 mins walk)\, or Old London Road Car Park (85 spaces\, 6 mins walk). St Andrew Street Car Park is 24/7\, charges Mon-Sat (free for 30 mins)\, has blue badge bays\, and is about a 17-minute walk from the venue. Hertford East Station also has parking\, but it’s further away.  \nLOOKING FORWARD TO SEEING YOU ALL. \nANY QUESTIONS PLEASE ASK IN THE BAND CHAT PAGE ON WHATTSAPP \n 
URL:https://choosegeorge.show/bandcal/the-beam-hertford/
LOCATION:The Beam – Hertford\, The Wash\, Hertford SG14 1PS\, Hertford\, SG14 1PS
CATEGORIES:Show
END:VEVENT
END:VCALENDAR