BEGIN:VCALENDAR
VERSION:2.0
PRODID:-//Celebrating George Michael - ECPv6.15.20//NONSGML v1.0//EN
CALSCALE:GREGORIAN
METHOD:PUBLISH
X-WR-CALNAME:Celebrating George Michael
X-ORIGINAL-URL:https://choosegeorge.show
X-WR-CALDESC:Events for Celebrating George Michael
REFRESH-INTERVAL;VALUE=DURATION:PT1H
X-Robots-Tag:noindex
X-PUBLISHED-TTL:PT1H
BEGIN:VTIMEZONE
TZID:UTC
BEGIN:STANDARD
TZOFFSETFROM:+0000
TZOFFSETTO:+0000
TZNAME:UTC
DTSTART:20250101T000000
END:STANDARD
END:VTIMEZONE
BEGIN:VEVENT
DTSTART;VALUE=DATE:20260613
DTEND;VALUE=DATE:20260614
DTSTAMP:20260419T120414
CREATED:20251209T172318Z
LAST-MODIFIED:20251209T172318Z
UID:3147-1781308800-1781395199@choosegeorge.show
SUMMARY:Broadway Theatre\, Catford
DESCRIPTION:
URL:https://choosegeorge.show/bandcal/broadway-theatre-catford/
LOCATION:Broadway Theatre\, Catford\, Rushey Grn\,\, London\, SE6 4RU
CATEGORIES:Show
END:VEVENT
END:VCALENDAR