BEGIN:VCALENDAR
VERSION:2.0
PRODID:-//Celebrating George Michael - ECPv6.15.20//NONSGML v1.0//EN
CALSCALE:GREGORIAN
METHOD:PUBLISH
X-WR-CALNAME:Celebrating George Michael
X-ORIGINAL-URL:https://choosegeorge.show
X-WR-CALDESC:Events for Celebrating George Michael
REFRESH-INTERVAL;VALUE=DURATION:PT1H
X-Robots-Tag:noindex
X-PUBLISHED-TTL:PT1H
BEGIN:VTIMEZONE
TZID:UTC
BEGIN:STANDARD
TZOFFSETFROM:+0000
TZOFFSETTO:+0000
TZNAME:UTC
DTSTART:20220101T000000
END:STANDARD
END:VTIMEZONE
BEGIN:VEVENT
DTSTART;TZID=UTC:20240412T080000
DTEND;TZID=UTC:20240412T170000
DTSTAMP:20260421T231239
CREATED:20230802T184956Z
LAST-MODIFIED:20240408T124446Z
UID:2048-1712908800-1712941200@choosegeorge.show
SUMMARY:Strode Theatre\, Somerset
DESCRIPTION:Strode Theatre Somerset – FRI 12TH APRIL 2024 \nKEV and MARTYN – QUORN (ACCESS FROM 1PM) \nDRIVING \nJAY\, RAY & DAVE\, DEANO\, STEVE\, CHRISTINA & AUDREY\,KEV & MARTYN \nBAND – ARRIVE 2PM \nBACKING VOCALS 3PM \nSOUND CHECK 4PM – 4.30PM \nSHOW TIME 7.30PM \n  \nSTAYING \nKEV AND MARTYN\, CHRISTINA AND AUDREY \nStaying at THE PREMIER INN AT SWINDON CENTRAL (PARKING AVAILABLE) \nSwindon Hotels | Book Cheap Hotels In Swindon Town Centre | Premier Inn \nREST OF BAND TRAVELLING HOME
URL:https://choosegeorge.show/bandcal/strode-theatre-somerset/
CATEGORIES:Show
END:VEVENT
BEGIN:VEVENT
DTSTART;VALUE=DATE:20240406
DTEND;VALUE=DATE:20240407
DTSTAMP:20260421T231239
CREATED:20230802T184852Z
LAST-MODIFIED:20240402T130337Z
UID:2046-1712361600-1712447999@choosegeorge.show
SUMMARY:Lawrence Batley\, Huddersfield
DESCRIPTION:LAWRENCE BATLEY THEATRE – HUDDERSFIELD – SAT 6TH APRIL 2024 \n2PM GET IN FOR KEV & MARTIN \n3PM BAND GET IN \n3.30PM BV’S – CHRISTINA & AUDREY TO ARRIVE – Welcome to Audrey on this one!!!! \n4PM SOUNDCHECK \n7.30PM STAGE TIME \nALL SHOW MEMBERS TO DRIVE HOME AFTER THE SHOW
URL:https://choosegeorge.show/bandcal/lawrence-batley-huddersfield/
CATEGORIES:Show
END:VEVENT
BEGIN:VEVENT
DTSTART;VALUE=DATE:20240405
DTEND;VALUE=DATE:20240406
DTSTAMP:20260421T231239
CREATED:20230802T184749Z
LAST-MODIFIED:20240402T121835Z
UID:2044-1712275200-1712361599@choosegeorge.show
SUMMARY:Burton Town Hall
DESCRIPTION:BURTON TOWN HALL – FRI 5TH APRIL 2024  \nSteve pick up splitter van – 10am Oxford Branch \nJay\, Ray\, Deano to be at Dave’s house at 11am to load up \nAaron driving Depart approximately 12 noon for 2pm arrival to set up) (KEV AND MARTYN – LOAD IN 12 NOON – 1PM) \nChristina and Belinda to arrive 3.30pm \nSoundcheck at 4pm ( To run and test tracks )  time prevailing. \nSTAGE TIME 7.30PM \nChristina and Belinda travel back to Birmingham. \nSteve\, Dave\, Aaron\, jay\, Deano\, Ray to stay at \nPremier Inn – Burton on Trent EAST \n82 Ashby Road East\, Burton On Trent\, Staffordshire \nDE15 0PU \n  \n  \n 
URL:https://choosegeorge.show/bandcal/burton-town-hall/
LOCATION:Burton Town Hall\, DE14 2EB
CATEGORIES:Show
END:VEVENT
BEGIN:VEVENT
DTSTART;VALUE=DATE:20240224
DTEND;VALUE=DATE:20240225
DTSTAMP:20260421T231239
CREATED:20230619T202534Z
LAST-MODIFIED:20240222T095940Z
UID:754-1708732800-1708819199@choosegeorge.show
SUMMARY:Tring Squash Club - Ray
DESCRIPTION:Arrival times:\n5.30pm – Band\n6pm – BV’s \nThere is a large car park.
URL:https://choosegeorge.show/bandcal/tring-squash-club-ray/
LOCATION:Tring Squash Club\, Cow Ln\,\, Tring\, HP23 5NS
CATEGORIES:Show
END:VEVENT
BEGIN:VEVENT
DTSTART;VALUE=DATE:20240217
DTEND;VALUE=DATE:20240218
DTSTAMP:20260421T231239
CREATED:20230418T172740Z
LAST-MODIFIED:20240205T174958Z
UID:651-1708128000-1708214399@choosegeorge.show
SUMMARY:Acapela
DESCRIPTION:FULL BAND – CONFIRMED \nVenue: Acapela Studio\, Heol Y Pentre\, Pentyrch CF15 9QD \n3pm: Band arrive and load in\n\n4pm: BV’s arrive\n\n4.30pm: Sound check\n\n6pm: Soundcheck end\n\n8.00pm: Show \n\n parking in street by venue\nLovely pizza and beverages supplied by the Acapela Team\n\n 
URL:https://choosegeorge.show/bandcal/tbc-acapela-cardiff/
LOCATION:Acapela Studio\, Heol Y Pentre\, Cardiff\, CF15 9QD\, United Kingdom
CATEGORIES:Show
END:VEVENT
BEGIN:VEVENT
DTSTART;VALUE=DATE:20240209
DTEND;VALUE=DATE:20240212
DTSTAMP:20260421T231239
CREATED:20230802T185045Z
LAST-MODIFIED:20240205T184818Z
UID:2050-1707436800-1707695999@choosegeorge.show
SUMMARY:Zurich - Komplex 457
DESCRIPTION:THIS EVENT IS NOW CANCELLED
URL:https://choosegeorge.show/bandcal/tbc-zurich/
CATEGORIES:Show
END:VEVENT
BEGIN:VEVENT
DTSTART;TZID=UTC:20240207T190000
DTEND;TZID=UTC:20240207T230000
DTSTAMP:20260421T231239
CREATED:20231129T200057Z
LAST-MODIFIED:20231129T200057Z
UID:2146-1707332400-1707346800@choosegeorge.show
SUMMARY:Band Sync Rehearsal
DESCRIPTION:
URL:https://choosegeorge.show/bandcal/band-sync-rehearsal-2/
CATEGORIES:Rehearsal
END:VEVENT
BEGIN:VEVENT
DTSTART;TZID=UTC:20240131T070000
DTEND;TZID=UTC:20240131T230000
DTSTAMP:20260421T231239
CREATED:20231129T195952Z
LAST-MODIFIED:20231129T195952Z
UID:2144-1706684400-1706742000@choosegeorge.show
SUMMARY:Band Sync Rehearsal
DESCRIPTION:
URL:https://choosegeorge.show/bandcal/band-sync-rehearsal/
CATEGORIES:Rehearsal
END:VEVENT
BEGIN:VEVENT
DTSTART;VALUE=DATE:20231118
DTEND;VALUE=DATE:20231119
DTSTAMP:20260421T231239
CREATED:20230224T232612Z
LAST-MODIFIED:20231113T131531Z
UID:567-1700265600-1700351999@choosegeorge.show
SUMMARY:The Mick Jagger Centre
DESCRIPTION:Venue: The Mick Jagger Centre\, Shepherds Ln\, Dartford DA1 2JZ \n1pm: Quorn PA load in – They have an event up until at least 12 midday. \n2pm: Band arrive and load in\n\n3pm: BV’s arrive\n\n4pm: Sound check – Go through “Last Xmas” again to be sure 😉  And Steve to rehearse band breakdown on Last Christmas and band introductions….  😀\n\n6pm: Soundcheck end\n\n7.30: Show \n\nPlenty of parking at venue\nLoad in easy from side of building\n\n 
URL:https://choosegeorge.show/bandcal/show-the-mick-jagger-centre/
LOCATION:The Mick Jagger Centre\, Shepherds Ln\, Dartford\, DA1 2JZ
CATEGORIES:Show
END:VEVENT
BEGIN:VEVENT
DTSTART;VALUE=DATE:20231110
DTEND;VALUE=DATE:20231111
DTSTAMP:20260421T231239
CREATED:20230224T232420Z
LAST-MODIFIED:20231106T205042Z
UID:564-1699574400-1699660799@choosegeorge.show
SUMMARY:Blackburn Empire Theatre
DESCRIPTION:Venue: Blackburn Theatre\, Aqueduct Rd\, Blackburn\, BB2 4HT \nDave\, Ray\, Jay & Chrissy travel in Steve’s car.: Be at Dave’s for 9.30am\nJay: Only one combo\nDave: Only one cab\nDeano: Meet us there\n\n12 noon: Quorn PA load in\n2pm: Band arrive and load in\n3pm: BV’s arrive\n4pm: Sound check – Go through “Last Xmas” and “I knew you were waiting”\n6pm: Soundcheck end\n7.30: Show \n\nPlenty of parking at venue\nLoad in easy from side of building\n\n 
URL:https://choosegeorge.show/bandcal/show-blackburn-empire-theatre/
LOCATION:Blackburn Theatre\, Aqueduct Rd\,\, Blackburn\, BB2 4HT
CATEGORIES:Show
END:VEVENT
BEGIN:VEVENT
DTSTART;VALUE=DATE:20231028
DTEND;VALUE=DATE:20231029
DTSTAMP:20260421T231239
CREATED:20230224T232114Z
LAST-MODIFIED:20231023T070842Z
UID:562-1698451200-1698537599@choosegeorge.show
SUMMARY:Civic Centre\, Uckfield
DESCRIPTION:Schedule \nSaturday 28th Oct – The Civic Centre\, Uckfield\, East Sussex\, TN22 1AE \n\n12 Midday – Quorn Events / load in\n2pm – Band Load In – Steve to liaise with BV’s for arrival\n4pm – Soundcheck\n7.30pm – Show\n\nImportant \n\nParking at and around venue\nDress \n\nBV’s all black for first set and please add some colour for the second set. If unsure\, Whatsapp Steve.\nBand – All black as usual\, and second set\, blue denim jeans and a jacket if you want\, but keep a black shirt / t-shirt.
URL:https://choosegeorge.show/bandcal/show-civic-centre-uckfield/
CATEGORIES:Show
END:VEVENT
BEGIN:VEVENT
DTSTART;VALUE=DATE:20231020
DTEND;VALUE=DATE:20231021
DTSTAMP:20260421T231239
CREATED:20230224T231943Z
LAST-MODIFIED:20230907T100918Z
UID:559-1697760000-1697846399@choosegeorge.show
SUMMARY:RESCHEDULED TO 13-4-24 -Leatherhead Theatre
DESCRIPTION:FULL BAND \n2 x BV’s
URL:https://choosegeorge.show/bandcal/show-leatherhead-theatre/
LOCATION:Leatherhead Theatre\, 7 Church St\, Leatherhead\, KT22 8DN
CATEGORIES:Show
END:VEVENT
BEGIN:VEVENT
DTSTART;VALUE=DATE:20231004
DTEND;VALUE=DATE:20231009
DTSTAMP:20260421T231239
CREATED:20230224T231717Z
LAST-MODIFIED:20230712T222154Z
UID:557-1696377600-1696809599@choosegeorge.show
SUMMARY:Denmark (Steve & Dave Only)
DESCRIPTION:Steve / Dave ONLY
URL:https://choosegeorge.show/bandcal/tbc-shows-denmark/
END:VEVENT
BEGIN:VEVENT
DTSTART;VALUE=DATE:20230923
DTEND;VALUE=DATE:20230924
DTSTAMP:20260421T231239
CREATED:20230224T231541Z
LAST-MODIFIED:20230917T124700Z
UID:555-1695427200-1695513599@choosegeorge.show
SUMMARY:Kenton Theatre
DESCRIPTION:Schedule \nSaturday 23nd Sep – Kenton Theatre – 19 New St\, Henley-on-Thames RG9 2BP \n\n3pm – Band and Quorn call\n3.30pm BV’s call\n4pm – Soundcheck and Multitrack test\n7.30pm – Show\n\n\nImportant \n\nBe aware of Friday traffic which can be bad and for those coming in on the M25\, it may be better to use the M4 because there are roadworks on the M40 route.\nParking is as before\, which is the rugby club on Marlow Road. And we “think” we can move to Waitrose from 6pm onwards\, but we’ll check on the day.\nDress \n\nBV’s all black for first set and please add some colour for the second set. If unsure\, Whatsapp Steve.\nBand – All black as usual\, and we would like to try (as per promo) blue denim jeans and a jacket if you want\, but keep a black t-shirt.
URL:https://choosegeorge.show/bandcal/show-kenton-theatre/
LOCATION:Kenton Theatre\, 19 New St\, Henley-on-Thames\, RG9 2BP
CATEGORIES:Show
END:VEVENT
BEGIN:VEVENT
DTSTART;VALUE=DATE:20230922
DTEND;VALUE=DATE:20230923
DTSTAMP:20260421T231239
CREATED:20230224T231421Z
LAST-MODIFIED:20230917T124558Z
UID:552-1695340800-1695427199@choosegeorge.show
SUMMARY:Kenton Theatre
DESCRIPTION:Schedule \nFriday 22nd Sep – Kenton Theatre – 19 New St\, Henley-on-Thames RG9 2BP \n\n12 Midday – Quorn Events / load in\n2pm – Band Load In\n3pm – BV’s call\n4pm – Soundcheck\n7.30pm – Show\n\nImportant \n\nBe aware of Friday traffic which can be bad and for those coming in on the M25\, it may be better to use the M4 because there are roadworks on the M40 route.\nParking is as before\, which is the rugby club on Marlow Road. And we “think” we can move to Waitrose from 6pm onwards\, but we’ll check on the day.\nDress \n\nBV’s all black for first set and please add some colour for the second set. If unsure\, Whatsapp Steve.\nBand – All black as usual\, and we would like to try (as per promo) blue denim jeans and a jacket if you want\, but keep a black t-shirt.\n\n\nOf course\, PA and backline can stay on stage ready for the following day.
URL:https://choosegeorge.show/bandcal/tbc-show-kenton-theatre/
LOCATION:Kenton Theatre\, 19 New St\, Henley-on-Thames\, RG9 2BP
CATEGORIES:Show
END:VEVENT
BEGIN:VEVENT
DTSTART;VALUE=DATE:20230902
DTEND;VALUE=DATE:20230903
DTSTAMP:20260421T231239
CREATED:20230225T125923Z
LAST-MODIFIED:20230712T222121Z
UID:580-1693612800-1693699199@choosegeorge.show
SUMMARY:Cople Festival
DESCRIPTION:FULL BAND – CHARITY EVENT\nExpenses only
URL:https://choosegeorge.show/bandcal/show-cople-festival/
LOCATION:Cople Festival\, Cople Park\, Grange Ln\,\, Cople\, MK44 3TT
CATEGORIES:Show
END:VEVENT
BEGIN:VEVENT
DTSTART;TZID=UTC:20230708T200000
DTEND;TZID=UTC:20230708T220000
DTSTAMP:20260421T231239
CREATED:20230519T080127Z
LAST-MODIFIED:20230704T214636Z
UID:717-1688846400-1688853600@choosegeorge.show
SUMMARY:Mapperley Plains - Nottingham
DESCRIPTION:Itinerary \nVenue – Mapperly Plains Club – Plains Rd\, Mapperley\, Nottingham NG3 5RH \n12:30 – PA Load In\n2.30pm – Band Load In\n3.30pm – BV’s\n3.30 – 4.30 – Sound Check\n9pm – 10.30pm – Show (Straight through\, no break) \n– Catering will be provided\n– Easy load in and parking\n– James – If you want to go on ears\, we all use the “Mixing Station” app for monitor mix.
URL:https://choosegeorge.show/bandcal/show-mapperley-plains-nottingham/
LOCATION:Mapperly Plains\, Plains Road\, Mapperly\, Nottingham\, NG3 5RH
CATEGORIES:Show
END:VEVENT
BEGIN:VEVENT
DTSTART;VALUE=DATE:20230617
DTEND;VALUE=DATE:20230618
DTSTAMP:20260421T231239
CREATED:20230224T231133Z
LAST-MODIFIED:20230614T153437Z
UID:549-1686960000-1687046399@choosegeorge.show
SUMMARY:Show - St. Marys' Arts Centre
DESCRIPTION:Saturday 17th June – St. Marys’ Arts Centre\, Strand St\, Sandwich CT13 9HN \n\n11am – Quorn Events / load in\n1pm – Steve & Dave Only (IEM set up)\n2pm – Band Load In\n3pm – BV’s\n4pm – Soundcheck\n7.30pm – Show\n\nNote: We cannot park at the venue. So once you’ve loaded in you will need to move your car to Gazen Salts car park across the road.
URL:https://choosegeorge.show/bandcal/show-st-marys-arts-centre/
LOCATION:St. Marys’ Arts Centre\, Strand St\, Sandwich\, CT13 9HN
CATEGORIES:Show
END:VEVENT
BEGIN:VEVENT
DTSTART;VALUE=DATE:20230610
DTEND;VALUE=DATE:20230611
DTSTAMP:20260421T231239
CREATED:20230224T230913Z
LAST-MODIFIED:20230530T200219Z
UID:546-1686355200-1686441599@choosegeorge.show
SUMMARY:Show - Forum Theatre\, Billingham
DESCRIPTION:See Phoenix Theatre schedule
URL:https://choosegeorge.show/bandcal/show-forum-theatre-billingham/
LOCATION:Forum Theatre Billingham\, Queensway\, Stockton-on-Tees\, TS23 2LJ
CATEGORIES:Show
END:VEVENT
BEGIN:VEVENT
DTSTART;VALUE=DATE:20230609
DTEND;VALUE=DATE:20230610
DTSTAMP:20260421T231239
CREATED:20230224T230627Z
LAST-MODIFIED:20230530T200106Z
UID:543-1686268800-1686355199@choosegeorge.show
SUMMARY:Show - Phoenix Theatre
DESCRIPTION:Friday 9th June – Phoenix Theatre\, 37A Beaconsfield St\, Blyth NE24 2DS \n\n8am – Meet at Dave’s\n\n3 Langley Rd\, Abbots Langley\, WD5 0EH\nLoad bus\nThere is parking for cars in the street or a car park behind the shops\n\n\n8.30am – Bus leaves – If you are late\, you may have to drive and meet us there. Unfortunately\, there is no budget for expenses should this be the case.\n1pm – Quorn Arrival / Load In\n2.30-3pm – Band Arrival\n4pm – Soundcheck\n7.30pm – Show\nAfter show – Drive to hotel (Approx 1hr)\n\nPremier Inn\, Whitewater Way\, Stockton-on-Tees TS17 6QB (2 nights)\nNOTE: There will be 2 to a room\n\nSteve & Dave\nEmma & Saoirse\nMartin & Kevin\n Please decide who is sharing between Ray\, Jay\, Lester and Deano.\n\n\n\n\n\n\nSat 10th June – Forum Theatre Billingham\, Queensway\, Stockton-on-Tees TS23 2LJ (Approx 15 min drive from hotel) \n\n11am – Leave hotel for “brunch”\n1pm – Quorn Arrival / Load In\n2pm – Band Arrival\n3.30pm – Soundcheck\n7.30pm – Show\nAfter show – Drive to hotel (Approx 15 mins)\n\nPremier Inn\, Whitewater Way\, Stockton-on-Tees TS17 6QB (2 nights)\nSame room arrangements\n\n\n\nSun 11th June – Return  \n\n10am – Leave hotel\nApprox  3pm – 4pm arrive at Dave’s \n\n 
URL:https://choosegeorge.show/bandcal/show-phoenix-theatre/
LOCATION:Pheonis Theatre\, Blyth\, 37A Beaconsfield St\, Blyth\, NE24 2DS
CATEGORIES:Show
END:VEVENT
BEGIN:VEVENT
DTSTART;VALUE=DATE:20230526
DTEND;VALUE=DATE:20230527
DTSTAMP:20260421T231239
CREATED:20230224T225959Z
LAST-MODIFIED:20230224T225959Z
UID:539-1685059200-1685145599@choosegeorge.show
SUMMARY:Show - Wilde Theatre
DESCRIPTION:FULL BAND \n2 x BV’s
URL:https://choosegeorge.show/bandcal/show-wilde-theatre/
LOCATION:Wilde Theatre\, South Hill Park\, Ringmead\, Bracknell\, Berkshire\, RG12 7PA
END:VEVENT
BEGIN:VEVENT
DTSTART;TZID=UTC:20230524T190000
DTEND;TZID=UTC:20230524T230000
DTSTAMP:20260421T231239
CREATED:20230425T203940Z
LAST-MODIFIED:20230425T203940Z
UID:654-1684954800-1684969200@choosegeorge.show
SUMMARY:REHEARSAL
DESCRIPTION:Rehearsal – FULL BAND
URL:https://choosegeorge.show/bandcal/rehearsal/
END:VEVENT
BEGIN:VEVENT
DTSTART;VALUE=DATE:20230401
DTEND;VALUE=DATE:20230402
DTSTAMP:20260421T231239
CREATED:20230224T225614Z
LAST-MODIFIED:20230327T190248Z
UID:537-1680307200-1680393599@choosegeorge.show
SUMMARY:Show - Empire Theatre
DESCRIPTION:ITINERARY  \nFULL BAND & a BIG thanks to our deps for this one.\n– Keys  – Chris Mars\n– Gtr – Dave Groom \nVenue – Empire Theatre\, 57 Butler Rd\, Halstead CO9 1LL\nArrival – 2.00pm (soundcheck etc)\nParking – Small car park at theatre.  \n\nSteve\, Chris & Nicola\, Chrissy – Car 1\nDeano & Dave Groom – Car 2\nLester – Car 3\nDave – Car 4\nEmma & Saoirse – Car 5\n\nAdditional\nNote: Pete Mills is no longer able to do FOH as he starts with Peter Gabriel this week.\nFOH: In-house engineer “Andy”
URL:https://choosegeorge.show/bandcal/show-empire-theatre/
LOCATION:Empire\, Halstead\, 57 Butler Rd\,\, Halstead\, CO9 1LL
END:VEVENT
BEGIN:VEVENT
DTSTART;TZID=UTC:20230329T190000
DTEND;TZID=UTC:20230329T230000
DTSTAMP:20260421T231239
CREATED:20230210T203149Z
LAST-MODIFIED:20230210T204350Z
UID:526-1680116400-1680130800@choosegeorge.show
SUMMARY:Rehearsals - Dep Keys - Dep Gtr - Perc - BV's
DESCRIPTION:
URL:https://choosegeorge.show/bandcal/rehearsals-dep-keys-dep-gtr-perc-bvs/
CATEGORIES:Rehearsal
END:VEVENT
BEGIN:VEVENT
DTSTART;TZID=UTC:20230325T150000
DTEND;TZID=UTC:20230325T230000
DTSTAMP:20260421T231239
CREATED:20230224T225157Z
LAST-MODIFIED:20230316T221005Z
UID:533-1679756400-1679785200@choosegeorge.show
SUMMARY:Show - Acapela Studio
DESCRIPTION:FULL BAND \nITINERARY  \nVenue – Acapela Studio : Heol Y Pentre\, Pentyrch\, Cardiff CF15 9QD \nArrival – 2.30pm (soundcheck etc)  \n\nEmma & Saoirse to be at Steve’s for 11am – Address: Flat 16\, Pelham court\, Marlow Road\,Maidenhead\, SL6 7AG\nDeano\, Lester\, Jay driving there.\nDave & Ray driving\nFor those that want to drive down together for most of the journey\, we are meeting at Chieveley Services (Nr Thatcham/Newbury) on the M4 12.00 midday. Otherwise\, we’ll meet you there.\n\n——— Below is from the venue ———— \nTIMINGS\n \nArrival @ 2.30pm (soundcheck etc)  \nSoundcheck MUST be completed by 6.00pm as music hall is used for dining by audience.  \nDoors open 6.00pm  \nWe will feed the band at 6.00pm see https://acapela.co.uk/dining/ plus drinks from bar  \nConcert starts around 8.00 to 8.15pm (we will give you 5 minute call to go onstage) when table service completed.  \n2 x 45 minute sets minimum plus encore  \nInterval around 20 minutes  \nCurfew 10.30pm \n  \n PARKING – VERY IMPORTANT  \nThe venue is currently in a legal dispute with the pub who own the car park next door to the venue over our access and parking rights. They have cameras installed and if anyone enters you will receive a parking notice and a fine of £60 if you are in the car park for more than 10 minutes.  \nAs a result\, please do not park on the car park but on the road in front of the venue in Heol Y Pentre. This is the same distance from the stage door.  \n  \n 
URL:https://choosegeorge.show/bandcal/show-acapela-studio/
LOCATION:Acapela Studio\, Heol Y Pentre\, Cardiff\, CF15 9QD\, United Kingdom
END:VEVENT
BEGIN:VEVENT
DTSTART;TZID=UTC:20230322T190000
DTEND;TZID=UTC:20230322T230000
DTSTAMP:20260421T231239
CREATED:20230210T203045Z
LAST-MODIFIED:20230210T203045Z
UID:524-1679511600-1679526000@choosegeorge.show
SUMMARY:Rehearsals - Dep Keys - Dep Gtr - BV's
DESCRIPTION:
URL:https://choosegeorge.show/bandcal/rehearsals-dep-keys-dep-gtr-bvs/
END:VEVENT
BEGIN:VEVENT
DTSTART;TZID=UTC:20230315T190000
DTEND;TZID=UTC:20230315T230000
DTSTAMP:20260421T231239
CREATED:20230210T202702Z
LAST-MODIFIED:20230210T204538Z
UID:522-1678906800-1678921200@choosegeorge.show
SUMMARY:Rehearsals - Dep Keys - Dep Gtr - No Perc - No BV's
DESCRIPTION:
URL:https://choosegeorge.show/bandcal/rehearsals-dep-keys-dep-gtr-no-bvs/
END:VEVENT
BEGIN:VEVENT
DTSTART;TZID=UTC:20230302T190000
DTEND;TZID=UTC:20230302T230000
DTSTAMP:20260421T231239
CREATED:20230210T203552Z
LAST-MODIFIED:20230226T143716Z
UID:528-1677783600-1677798000@choosegeorge.show
SUMMARY:Show - Oddfellows Arms
DESCRIPTION:– Full Band\n– BV’s – Emma & Saoirse\n– 9pm – Performance time (may change)\n– 6.30pm – PA in\n– 7pm – 7.30pm – Band & BV’s set up \n– Clothes – Band & BV’s all black \n 
URL:https://choosegeorge.show/bandcal/show-oddfellows-arms/
LOCATION:Oddfellows Arms\, 113 London Rd\,\, Aplsey\, HP3 9SP
END:VEVENT
BEGIN:VEVENT
DTSTART;VALUE=DATE:20230224
DTEND;VALUE=DATE:20230227
DTSTAMP:20260421T231239
CREATED:20230210T201339Z
LAST-MODIFIED:20230210T201339Z
UID:512-1677196800-1677455999@choosegeorge.show
SUMMARY:Moods\, Zurich
DESCRIPTION:
URL:https://choosegeorge.show/bandcal/moods-zurich/
LOCATION:Moods\, Zurich\, Switzerland
END:VEVENT
END:VCALENDAR