BEGIN:VCALENDAR
VERSION:2.0
PRODID:-//Celebrating George Michael - ECPv6.15.20//NONSGML v1.0//EN
CALSCALE:GREGORIAN
METHOD:PUBLISH
X-WR-CALNAME:Celebrating George Michael
X-ORIGINAL-URL:https://choosegeorge.show
X-WR-CALDESC:Events for Celebrating George Michael
REFRESH-INTERVAL;VALUE=DURATION:PT1H
X-Robots-Tag:noindex
X-PUBLISHED-TTL:PT1H
BEGIN:VTIMEZONE
TZID:UTC
BEGIN:STANDARD
TZOFFSETFROM:+0000
TZOFFSETTO:+0000
TZNAME:UTC
DTSTART:20250101T000000
END:STANDARD
END:VTIMEZONE
BEGIN:VEVENT
DTSTART;VALUE=DATE:20260703
DTEND;VALUE=DATE:20260704
DTSTAMP:20260423T152550
CREATED:20251104T095717Z
LAST-MODIFIED:20260128T192940Z
UID:3130-1783036800-1783123199@choosegeorge.show
SUMMARY:Todd in The Hole Festival
DESCRIPTION:1 Hour Set – Approx 8pm\nFriday 3rd July 26 – Support to Rolling Stones Tribute
URL:https://choosegeorge.show/bandcal/todd-in-the-hole-festival/
CATEGORIES:Show
END:VEVENT
BEGIN:VEVENT
DTSTART;VALUE=DATE:20260704
DTEND;VALUE=DATE:20260706
DTSTAMP:20260423T152550
CREATED:20251221T155916Z
LAST-MODIFIED:20251221T161025Z
UID:3157-1783123200-1783295999@choosegeorge.show
SUMMARY:TBC - Pomarez\, France
DESCRIPTION:Sound & Light Festival \n4/7 Early morning flight\n4/7 Show\n5/7 Flight home
URL:https://choosegeorge.show/bandcal/tbc-pomarez/
CATEGORIES:Pencilled Show
END:VEVENT
END:VCALENDAR