BEGIN:VCALENDAR
VERSION:2.0
PRODID:-//Celebrating George Michael - ECPv6.15.20//NONSGML v1.0//EN
CALSCALE:GREGORIAN
METHOD:PUBLISH
X-ORIGINAL-URL:https://choosegeorge.show
X-WR-CALDESC:Events for Celebrating George Michael
REFRESH-INTERVAL;VALUE=DURATION:PT1H
X-Robots-Tag:noindex
X-PUBLISHED-TTL:PT1H
BEGIN:VTIMEZONE
TZID:UTC
BEGIN:STANDARD
TZOFFSETFROM:+0000
TZOFFSETTO:+0000
TZNAME:UTC
DTSTART:20250101T000000
END:STANDARD
END:VTIMEZONE
BEGIN:VEVENT
DTSTART;VALUE=DATE:20260919
DTEND;VALUE=DATE:20260920
DTSTAMP:20260423T185516
CREATED:20260119T164643Z
LAST-MODIFIED:20260119T164643Z
UID:3197-1789776000-1789862399@choosegeorge.show
SUMMARY:CGM - ST IVES FESTIVAL- Cornwall
DESCRIPTION:SHOW CONFIRMED (BAND ONLY)
URL:https://choosegeorge.show/bandcal/cgm-st-ives-festival-cornwall/
LOCATION:st ives festival\, Lower Stennack\, St Ives\, Cornwall\, TR26 1QG\, TR26 1QG
CATEGORIES:Show
END:VEVENT
END:VCALENDAR